BEGIN:VCALENDAR
VERSION:2.0
PRODID:-//Yoanna Prodanova - ECPv6.15.17.1//NONSGML v1.0//EN
CALSCALE:GREGORIAN
METHOD:PUBLISH
X-WR-CALNAME:Yoanna Prodanova
X-ORIGINAL-URL:https://www.yoannaprodanova.com
X-WR-CALDESC:Events for Yoanna Prodanova
REFRESH-INTERVAL;VALUE=DURATION:PT1H
X-Robots-Tag:noindex
X-PUBLISHED-TTL:PT1H
BEGIN:VTIMEZONE
TZID:UTC
BEGIN:STANDARD
TZOFFSETFROM:+0000
TZOFFSETTO:+0000
TZNAME:UTC
DTSTART:20150101T000000
END:STANDARD
END:VTIMEZONE
BEGIN:VEVENT
DTSTART;TZID=UTC:20161119T193000
DTEND;TZID=UTC:20161119T193000
DTSTAMP:20260424T001023
CREATED:20161122T150824Z
LAST-MODIFIED:20161122T150853Z
UID:213-1479583800-1479583800@www.yoannaprodanova.com
SUMMARY:Kol Nidrei with the Gooden.Semble
DESCRIPTION:Max Bruch – “Kol Nidrei” with the Gooden.Semble and Michael Poll
URL:https://www.yoannaprodanova.com/events/kol-nidrei-gooden-semble/
LOCATION:Great Hall\, Goodenough College\, United Kingdom
ATTACH;FMTTYPE=image/jpeg:https://www.yoannaprodanova.com/wp-content/uploads/2016/03/Yoanna-4-black-white.jpg
END:VEVENT
BEGIN:VEVENT
DTSTART;TZID=UTC:20161026T193000
DTEND;TZID=UTC:20161026T220000
DTSTAMP:20260424T001023
CREATED:20160912T195725Z
LAST-MODIFIED:20161022T081823Z
UID:189-1477510200-1477519200@www.yoannaprodanova.com
SUMMARY:Cello and Piano Recital with Mihai Ritivoiu in St Mary's Perivale Church
DESCRIPTION:Franz Schubert – Ständchen and Wanderers Nachtlied \nGabriel Fauré -Romance  and Sérénade\n–\nJohannes Brahms – Sonata for cello and piano no. 2 in F major op. 99 \nwith Mihai Ritivoiu\, piano \n 
URL:https://www.yoannaprodanova.com/events/cello-piano-recital-mihai-ritivoiu-st-marys-perivale-church/
LOCATION:St Mary’s Perivale Church\, Perivale Ln\, Perivale\, London \, United Kingdom
ATTACH;FMTTYPE=image/jpeg:https://www.yoannaprodanova.com/wp-content/uploads/2016/09/mihaiyoanna.jpg
END:VEVENT
BEGIN:VEVENT
DTSTART;TZID=UTC:20161018T110000
DTEND;TZID=UTC:20161018T120000
DTSTAMP:20260424T001023
CREATED:20161020T165147Z
LAST-MODIFIED:20161020T165147Z
UID:204-1476788400-1476792000@www.yoannaprodanova.com
SUMMARY:Aimes-vous Brahms? at U3AC Music Club Cambridge
DESCRIPTION:Johannes Brahms – Sonata op. 99 for cello and piano in F major and Trio op. 8 for violin\, cello and piano in B major \nYoanna Prodanova\, cello\nMihai Ritivoiu\, piano \nMorisot Trio with Amarins Wierdsma\, violin
URL:https://www.yoannaprodanova.com/events/aimes-vous-brahms-u3ac-music-club-cambridge/
LOCATION:U3AC Cambridge\, Cambridge \, United Kingdom
ATTACH;FMTTYPE=image/png:https://www.yoannaprodanova.com/wp-content/uploads/2016/10/brahms.png
END:VEVENT
BEGIN:VEVENT
DTSTART;TZID=UTC:20161016T160000
DTEND;TZID=UTC:20161016T180000
DTSTAMP:20260424T001023
CREATED:20160912T201023Z
LAST-MODIFIED:20160912T201023Z
UID:193-1476633600-1476640800@www.yoannaprodanova.com
SUMMARY:Beloved Friend: Tchaikovsky Project
DESCRIPTION:Sir Ronald Harwood Beloved Friend: The Strange Love Affair of Pyotr Ilyich Tchaikovsky and Nadezhda von Meck\n\nGuildhall Musicians\nActors to be announced
URL:https://www.yoannaprodanova.com/events/beloved-friend-tchaikovsky-project/
LOCATION:Guildhall School of Music and Drama\, Barbican Centre\, London \, United Kingdom
ATTACH;FMTTYPE=image/jpeg:https://www.yoannaprodanova.com/wp-content/uploads/2016/09/tchaik.jpg
END:VEVENT
BEGIN:VEVENT
DTSTART;TZID=UTC:20161014T130000
DTEND;TZID=UTC:20161014T140000
DTSTAMP:20260424T001023
CREATED:20160824T131855Z
LAST-MODIFIED:20160824T131855Z
UID:182-1476450000-1476453600@www.yoannaprodanova.com
SUMMARY:Lunchtime Concert: Morisot Piano Trio
DESCRIPTION:William Cole – Piano Trio\nJohannes Brahms – Piano Trio op. 8 in B major \nMorisot Piano Trio\nAmarins Wierdsma\, violin\nYoanna Prodanova\, cello\nMihai Ritivoiu\, piano \nwww.amarinswierdsma.com\nwww.mihairitivoiu.com
URL:https://www.yoannaprodanova.com/events/lunchtime-concert-morisot-piano-trio/
LOCATION:Saint Bartholomew the Great\, Cloth Fair\, London \, EC1A 7JQ\, United Kingdom
ATTACH;FMTTYPE=image/png:https://www.yoannaprodanova.com/wp-content/uploads/2016/08/morisot.png
END:VEVENT
BEGIN:VEVENT
DTSTART;TZID=UTC:20160920T200000
DTEND;TZID=UTC:20160920T220000
DTSTAMP:20260424T001023
CREATED:20160915T151251Z
LAST-MODIFIED:20160916T182607Z
UID:199-1474401600-1474408800@www.yoannaprodanova.com
SUMMARY:Dvorak Concerto with the Amati Orchestra
DESCRIPTION:Rehearsing Dvorak’s Cello Concerto with the Amati Orchestra. \n20-September-2016\n11-October-2016\n1-November-2016 \n 
URL:https://www.yoannaprodanova.com/events/dvorak-concerto-amati-orchestra/
LOCATION:St Botoloh’s Without Aldesgate\, EC1A 4EU\, United Kingdom
ATTACH;FMTTYPE=image/jpeg:https://www.yoannaprodanova.com/wp-content/uploads/2016/03/Yoanna-3-colour-.jpg
END:VEVENT
BEGIN:VEVENT
DTSTART;TZID=UTC:20160917T200000
DTEND;TZID=UTC:20160917T223000
DTSTAMP:20260424T001023
CREATED:20160915T150758Z
LAST-MODIFIED:20160915T151516Z
UID:196-1474142400-1474151400@www.yoannaprodanova.com
SUMMARY:Cabaret Kultura
DESCRIPTION:An evening of experimental art and improvisation at the Whitechapel Gallery. \nWith artists Sergey Sapozhnikov\, Alexander Kislov and Alexander Selivanov. \nKasia Ziminska\, violin\nYoanna Prodanova\, cello \nCABARET KULTURA
URL:https://www.yoannaprodanova.com/events/cabaret-kultura/
LOCATION:Whitechapel Gallery\, Whitechapel Road \, United Kingdom
ATTACH;FMTTYPE=image/png:https://www.yoannaprodanova.com/wp-content/uploads/2016/09/cabaret.png
END:VEVENT
BEGIN:VEVENT
DTSTART;TZID=UTC:20160906T113000
DTEND;TZID=UTC:20160906T123000
DTSTAMP:20260424T001023
CREATED:20160824T131201Z
LAST-MODIFIED:20160824T131309Z
UID:180-1473161400-1473165000@www.yoannaprodanova.com
SUMMARY:Final Recital: Bachelor of Music
DESCRIPTION:Ludwig van Beethoven – Sonata op. 102. no. 2\nElliott Carter – Figment no. 1\nLeos Janacek – Pohadka\nClaude Debussy – Sonata in D \nwith pianists Joseph Havlat and Yundu Wang
URL:https://www.yoannaprodanova.com/events/final-recital-bachelor-music/
LOCATION:Guildhall School of Music and Drama\, Barbican Centre\, London \, United Kingdom
ATTACH;FMTTYPE=image/jpeg:https://www.yoannaprodanova.com/wp-content/uploads/2016/03/Yoanna-4-black-white.jpg
END:VEVENT
BEGIN:VEVENT
DTSTART;TZID=UTC:20160712T200000
DTEND;TZID=UTC:20160923T230000
DTSTAMP:20260424T001023
CREATED:20160514T144228Z
LAST-MODIFIED:20160514T144228Z
UID:173-1468353600-1474671600@www.yoannaprodanova.com
SUMMARY:Young Virtuosi Festival 2016
DESCRIPTION:12 July – La Digne d’Amont\n13 July  – Saint-Couat-du-Razès\n16 July –  St Hilaire *new venue\n17 July –  Ajac\n19 July  – Alet les Bains\n21 July – La Digne d’Aval\n22 July – Limoux\n23 July  – Castelreng
URL:https://www.yoannaprodanova.com/events/young-virtuosi-festival-2016/
LOCATION:Various venues\, France\, France
ATTACH;FMTTYPE=image/jpeg:https://www.yoannaprodanova.com/wp-content/uploads/2016/03/Yoanna-1-black-white_bckgr.jpg
END:VEVENT
BEGIN:VEVENT
DTSTART;TZID=UTC:20160708T120000
DTEND;TZID=UTC:20160708T130000
DTSTAMP:20260424T001023
CREATED:20160514T143157Z
LAST-MODIFIED:20160514T143157Z
UID:169-1467979200-1467982800@www.yoannaprodanova.com
SUMMARY:Lichfield Festival - Barbican Quartet
DESCRIPTION:Works by Bartok\, Pritchard and Ravel.
URL:https://www.yoannaprodanova.com/events/lichfield-festival-barbican-quartet/
LOCATION:Lichfield Garrick Theatre & Studio\, Castle Dyke\, Lichfield \, Lichfield\, United Kingdom
ATTACH;FMTTYPE=image/jpeg:https://www.yoannaprodanova.com/wp-content/uploads/2016/05/quartetphotosmaller.jpg
END:VEVENT
BEGIN:VEVENT
DTSTART;TZID=UTC:20160609T210000
DTEND;TZID=UTC:20160609T220000
DTSTAMP:20260424T001023
CREATED:20160511T194811Z
LAST-MODIFIED:20160514T141152Z
UID:159-1465506000-1465509600@www.yoannaprodanova.com
SUMMARY:Concours Prix d'Europe Chapelle historique du Bon-Pasteur (Richard Raymond\, piano)
DESCRIPTION:Semi-final of the Prix d’Europe competition in Montreal\, recital with Richard Raymond. Works by Faure\, Beethoven\, Janacek\, Lesage and Dohnanyi.
URL:https://www.yoannaprodanova.com/events/concours-prix-deurope-chapelle-historique-du-bon-pasteur-richard-raymond-piano/
ATTACH;FMTTYPE=image/jpeg:https://www.yoannaprodanova.com/wp-content/uploads/2016/03/Yoanna-1.jpg
END:VEVENT
BEGIN:VEVENT
DTSTART;TZID=UTC:20160418T193000
DTEND;TZID=UTC:20160418T203000
DTSTAMP:20260424T001023
CREATED:20160311T200412Z
LAST-MODIFIED:20160412T065806Z
UID:90-1461007800-1461011400@www.yoannaprodanova.com
SUMMARY:Barbican String Quartet  - Casken\, Graves\, MacMillan
DESCRIPTION:
URL:https://www.yoannaprodanova.com/events/barbican-string-quartet-casken-graves-macmillan/
LOCATION:St John’s Smith Square\, Smith Square\, London\,  SW1P 3HA\, United Kingdom
ATTACH;FMTTYPE=image/jpeg:https://www.yoannaprodanova.com/wp-content/uploads/2016/03/10583750_10209007050435159_963952785_n-e1457818886755.jpg
END:VEVENT
END:VCALENDAR