BEGIN:VCALENDAR
VERSION:2.0
PRODID:-//Yoanna Prodanova - ECPv6.15.17.1//NONSGML v1.0//EN
CALSCALE:GREGORIAN
METHOD:PUBLISH
X-WR-CALNAME:Yoanna Prodanova
X-ORIGINAL-URL:https://www.yoannaprodanova.com
X-WR-CALDESC:Events for Yoanna Prodanova
REFRESH-INTERVAL;VALUE=DURATION:PT1H
X-Robots-Tag:noindex
X-PUBLISHED-TTL:PT1H
BEGIN:VTIMEZONE
TZID:UTC
BEGIN:STANDARD
TZOFFSETFROM:+0000
TZOFFSETTO:+0000
TZNAME:UTC
DTSTART:20240101T000000
END:STANDARD
END:VTIMEZONE
BEGIN:VEVENT
DTSTART;TZID=UTC:20251207T193000
DTEND;TZID=UTC:20251207T213000
DTSTAMP:20260422T155548
CREATED:20250308T163422Z
LAST-MODIFIED:20250308T163422Z
UID:6562-1765135800-1765143000@www.yoannaprodanova.com
SUMMARY:Kabalevsky - Second Cello Concerto with the South East London Orchestra
DESCRIPTION:Dmitri Kabalevsky – Cello Concerto no. 2 in C minor op. 77
URL:https://www.yoannaprodanova.com/events/kabalevsky-second-cello-concerto-with-the-south-east-london-orchestra/
LOCATION:St Michael and All Angels\, Beckenham\, London \, United Kingdom
ATTACH;FMTTYPE=image/jpeg:https://www.yoannaprodanova.com/wp-content/uploads/2019/12/Yoanna-Prodanova-cello-c.jpeg
END:VEVENT
END:VCALENDAR